BEGIN:VCALENDAR
VERSION:2.0
PRODID:-//Tukios.com/
BEGIN:VEVENT
UID:c63ecdcb-613c-421c-8ee8-3279ef712194@www.quernheimfuneralhome.com
DTSTAMP:20260425T203654Z
DTSTART:20260501T140000Z
DTEND:20260501T160000Z
SUMMARY:Visitation
DESCRIPTION:
URL:https://www.quernheimfuneralhome.com/obituaries/earl-eckert
LOCATION: 200 N Main St  Waterloo IL 62298
GEO:38.3378524;-90.1497697
END:VEVENT
END:VCALENDAR