BEGIN:VCALENDAR
VERSION:2.0
PRODID:-//Tukios.com/
BEGIN:VEVENT
UID:7948d10e-217d-4a08-a792-cc6f3fed1e02@www.quernheimfuneralhome.com
DTSTAMP:20260425T203552Z
DTSTART:20260501T160000Z
DTEND:20260501T170000Z
SUMMARY:Funeral Service
DESCRIPTION:
URL:https://www.quernheimfuneralhome.com/obituaries/earl-eckert
LOCATION: 200 N Main St  Waterloo IL 62298
GEO:38.3378524;-90.1497697
END:VEVENT
END:VCALENDAR