BEGIN:VCALENDAR
VERSION:2.0
PRODID:-//Tukios.com/
BEGIN:VEVENT
UID:79f284d1-2f93-4a3d-a26c-a93ba15189f7@www.quernheimfuneralhome.com
DTSTAMP:20260423T090126Z
DTSTART:20260423T200000Z
DTEND:20260424T010000Z
SUMMARY:Visitation
DESCRIPTION:
URL:https://www.quernheimfuneralhome.com/obituaries/elsa-wiemerslage
LOCATION:Quernheim Funeral Home 800 S. Market Street  Waterloo IL 62298
GEO:38.326276;-90.1460196
END:VEVENT
END:VCALENDAR