BEGIN:VCALENDAR
VERSION:2.0
PRODID:-//Tukios.com/
BEGIN:VEVENT
UID:069c6878-2345-4479-9b32-8792cbd8fe16@www.quernheimfuneralhome.com
DTSTAMP:20260423T084203Z
DTSTART:20260424T210000Z
DTEND:20260425T010000Z
SUMMARY:Celebration of Life
DESCRIPTION:
URL:https://www.quernheimfuneralhome.com/obituaries/elsa-wiemerslage
LOCATION:Salt & Honey Bistro and Event Space 610 S. Market St.  Waterloo 
	IL 62298
GEO:38.329915;-90.1471664
END:VEVENT
END:VCALENDAR