BEGIN:VCALENDAR
VERSION:2.0
PRODID:-//Tukios.com/
BEGIN:VEVENT
UID:9bf259be-9d8d-44a7-8a1f-c868533b7d82@www.quernheimfuneralhome.com
DTSTAMP:20260425T192331Z
DTSTART:20260613T180000Z
DTEND:20260613T200000Z
SUMMARY:Memorial Visitation
DESCRIPTION:
URL:https://www.quernheimfuneralhome.com/obituaries/marcia-dalkert
LOCATION: 800 S. Market Street  Waterloo IL 62298
GEO:38.326276;-90.1460196
END:VEVENT
END:VCALENDAR