BEGIN:VCALENDAR
VERSION:2.0
PRODID:-//Tukios.com/
BEGIN:VEVENT
UID:51d88cb3-5bcc-42cb-aa0e-206ee3303b77@www.quernheimfuneralhome.com
DTSTAMP:20260425T192315Z
DTSTART:20260613T200000Z
DTEND:20260613T210000Z
SUMMARY:Memorial Service
DESCRIPTION:
URL:https://www.quernheimfuneralhome.com/obituaries/marcia-dalkert
LOCATION:Quernheim Funeral Home 800 S. Market Street  Waterloo IL 62298
GEO:38.326276;-90.1460196
END:VEVENT
END:VCALENDAR